BEGIN:VCALENDAR
VERSION:2.0
PRODID:-//Can Do MS - ECPv6.15.4//NONSGML v1.0//EN
CALSCALE:GREGORIAN
METHOD:PUBLISH
X-WR-CALNAME:Can Do MS
X-ORIGINAL-URL:https://cando-ms.org
X-WR-CALDESC:Events for Can Do MS
REFRESH-INTERVAL;VALUE=DURATION:PT1H
X-Robots-Tag:noindex
X-PUBLISHED-TTL:PT1H
BEGIN:VTIMEZONE
TZID:America/New_York
BEGIN:DAYLIGHT
TZOFFSETFROM:-0500
TZOFFSETTO:-0400
TZNAME:EDT
DTSTART:20260308T070000
END:DAYLIGHT
BEGIN:STANDARD
TZOFFSETFROM:-0400
TZOFFSETTO:-0500
TZNAME:EST
DTSTART:20261101T060000
END:STANDARD
END:VTIMEZONE
BEGIN:VEVENT
DTSTART;TZID=America/New_York:20260903T180000
DTEND;TZID=America/New_York:20260903T191500
DTSTAMP:20260423T031900
CREATED:20251111T033156Z
LAST-MODIFIED:20251121T203600Z
UID:10002211-1788458400-1788462900@cando-ms.org
SUMMARY:Black Community Meetup: Getting the Support You Need
DESCRIPTION:Having the right support can make life with MS more manageable and fulfilling. Find programs\, benefits and services that fit your needs and how to access the resources\, equipment and assistance that make daily life easier. Learn how to advocate for yourself and your loved ones; helping you feel more confident and prepared. \nREGISTER NOW
URL:https://cando-ms.org/event/black-community-meetup-9/
CATEGORIES:Resources and Support
ATTACH;FMTTYPE=image/png:https://cando-ms.org/wp-content/uploads/2025/11/BlackCommunityMeetups2026.png
LOCATION:https://cando-ms.org/event/black-community-meetup-9/
END:VEVENT
END:VCALENDAR