BEGIN:VCALENDAR
VERSION:2.0
PRODID:-//Can Do MS - ECPv6.15.4//NONSGML v1.0//EN
CALSCALE:GREGORIAN
METHOD:PUBLISH
X-WR-CALNAME:Can Do MS
X-ORIGINAL-URL:https://cando-ms.org
X-WR-CALDESC:Events for Can Do MS
REFRESH-INTERVAL;VALUE=DURATION:PT1H
X-Robots-Tag:noindex
X-PUBLISHED-TTL:PT1H
BEGIN:VTIMEZONE
TZID:America/New_York
BEGIN:DAYLIGHT
TZOFFSETFROM:-0500
TZOFFSETTO:-0400
TZNAME:EDT
DTSTART:20260308T070000
END:DAYLIGHT
BEGIN:STANDARD
TZOFFSETFROM:-0400
TZOFFSETTO:-0500
TZNAME:EST
DTSTART:20261101T060000
END:STANDARD
END:VTIMEZONE
BEGIN:VEVENT
DTSTART;TZID=America/New_York:20261112T170000
DTEND;TZID=America/New_York:20261112T181500
DTSTAMP:20260425T065120
CREATED:20251111T171538Z
LAST-MODIFIED:20251121T201843Z
UID:10002223-1794502800-1794507300@cando-ms.org
SUMMARY:Care Partner Meetup: Your Support System-Tools for Care Partners
DESCRIPTION:Caring for a loved one means navigating changing needs – often with limited guidance. Join social workers and fellow care partners to explore support options\, from in-home help to assisted living. Learn what questions to ask\, hear what services others have tried\, and get simple strategies to stay encouraged while managing the stress of finding the right support for you. \nREGISTER NOW
URL:https://cando-ms.org/event/care-partner-meetup-6/
CATEGORIES:Resources and Support
ATTACH;FMTTYPE=image/png:https://cando-ms.org/wp-content/uploads/2025/11/CarePartnerMeetups2026.png
LOCATION:https://cando-ms.org/event/care-partner-meetup-6/
END:VEVENT
END:VCALENDAR