BEGIN:VCALENDAR
VERSION:2.0
PRODID:-//Can Do MS - ECPv6.15.4//NONSGML v1.0//EN
CALSCALE:GREGORIAN
METHOD:PUBLISH
X-WR-CALNAME:Can Do MS
X-ORIGINAL-URL:https://cando-ms.org
X-WR-CALDESC:Events for Can Do MS
REFRESH-INTERVAL;VALUE=DURATION:PT1H
X-Robots-Tag:noindex
X-PUBLISHED-TTL:PT1H
BEGIN:VTIMEZONE
TZID:America/New_York
BEGIN:DAYLIGHT
TZOFFSETFROM:-0500
TZOFFSETTO:-0400
TZNAME:EDT
DTSTART:20250309T070000
END:DAYLIGHT
BEGIN:STANDARD
TZOFFSETFROM:-0400
TZOFFSETTO:-0500
TZNAME:EST
DTSTART:20251102T060000
END:STANDARD
END:VTIMEZONE
BEGIN:VEVENT
DTSTART;TZID=America/New_York:20250813T190000
DTEND;TZID=America/New_York:20250813T200000
DTSTAMP:20260421T020054
CREATED:20241119T173953Z
LAST-MODIFIED:20241204T184722Z
UID:10001335-1755111600-1755115200@cando-ms.org
SUMMARY:Addressing MS Discomfort From Numbness to Pain
DESCRIPTION:Navigating physical discomfort in multiple sclerosis goes beyond just managing your pain. Numbness\, spasticity\, tingling\, and other sensory symptoms can often interfere with your daily life. Learn how to identify\, describe\, manage\, and find relief from MS-related discomfort. \n  \nREGISTER NOW
URL:https://cando-ms.org/event/addressing-ms-discomfort-from-numbness-to-pain/
CATEGORIES:Pain, Numbness, Tingling
ATTACH;FMTTYPE=image/png:https://cando-ms.org/wp-content/uploads/2024/12/Webinar2025.png
LOCATION:https://cando-ms.org/event/addressing-ms-discomfort-from-numbness-to-pain/
END:VEVENT
END:VCALENDAR