BEGIN:VCALENDAR
VERSION:2.0
PRODID:-//Can Do MS - ECPv6.15.4//NONSGML v1.0//EN
CALSCALE:GREGORIAN
METHOD:PUBLISH
X-WR-CALNAME:Can Do MS
X-ORIGINAL-URL:https://cando-ms.org
X-WR-CALDESC:Events for Can Do MS
REFRESH-INTERVAL;VALUE=DURATION:PT1H
X-Robots-Tag:noindex
X-PUBLISHED-TTL:PT1H
BEGIN:VTIMEZONE
TZID:America/New_York
BEGIN:DAYLIGHT
TZOFFSETFROM:-0500
TZOFFSETTO:-0400
TZNAME:EDT
DTSTART:20230312T070000
END:DAYLIGHT
BEGIN:STANDARD
TZOFFSETFROM:-0400
TZOFFSETTO:-0500
TZNAME:EST
DTSTART:20231105T060000
END:STANDARD
BEGIN:DAYLIGHT
TZOFFSETFROM:-0500
TZOFFSETTO:-0400
TZNAME:EDT
DTSTART:20240310T070000
END:DAYLIGHT
BEGIN:STANDARD
TZOFFSETFROM:-0400
TZOFFSETTO:-0500
TZNAME:EST
DTSTART:20241103T060000
END:STANDARD
BEGIN:DAYLIGHT
TZOFFSETFROM:-0500
TZOFFSETTO:-0400
TZNAME:EDT
DTSTART:20250309T070000
END:DAYLIGHT
BEGIN:STANDARD
TZOFFSETFROM:-0400
TZOFFSETTO:-0500
TZNAME:EST
DTSTART:20251102T060000
END:STANDARD
END:VTIMEZONE
BEGIN:VTIMEZONE
TZID:America/Los_Angeles
BEGIN:DAYLIGHT
TZOFFSETFROM:-0800
TZOFFSETTO:-0700
TZNAME:PDT
DTSTART:20240310T100000
END:DAYLIGHT
BEGIN:STANDARD
TZOFFSETFROM:-0700
TZOFFSETTO:-0800
TZNAME:PST
DTSTART:20241103T090000
END:STANDARD
END:VTIMEZONE
BEGIN:VTIMEZONE
TZID:America/Chicago
BEGIN:DAYLIGHT
TZOFFSETFROM:-0600
TZOFFSETTO:-0500
TZNAME:CDT
DTSTART:20230312T080000
END:DAYLIGHT
BEGIN:STANDARD
TZOFFSETFROM:-0500
TZOFFSETTO:-0600
TZNAME:CST
DTSTART:20231105T070000
END:STANDARD
END:VTIMEZONE
BEGIN:VTIMEZONE
TZID:America/Vancouver
BEGIN:DAYLIGHT
TZOFFSETFROM:-0800
TZOFFSETTO:-0700
TZNAME:PDT
DTSTART:20230312T100000
END:DAYLIGHT
BEGIN:STANDARD
TZOFFSETFROM:-0700
TZOFFSETTO:-0800
TZNAME:PST
DTSTART:20231105T090000
END:STANDARD
END:VTIMEZONE
BEGIN:VEVENT
DTSTART;TZID=America/New_York:20251106T170000
DTEND;TZID=America/New_York:20251106T181500
DTSTAMP:20260421T033807
CREATED:20241205T183230Z
LAST-MODIFIED:20241205T234309Z
UID:10001396-1762448400-1762452900@cando-ms.org
SUMMARY:Care Partner Meetup - Care Partner Perspectives: Which MS Symptoms Test You the Most?
DESCRIPTION:MS symptoms can be unpredictable and overwhelming—not just for those living with the disease\, but for care partners too. Join us in a candid conversation about your biggest hurdles and learn practical strategies to manage stress and maintain resilience. \n  \nREGISTER NOW
URL:https://cando-ms.org/event/care-partner-meetup-identifying-your-ms-symptom-stressors/
CATEGORIES:Family, Friends, and Relationships
ATTACH;FMTTYPE=image/png:https://cando-ms.org/wp-content/uploads/2024/12/CarePartnerMeetups2025.png
LOCATION:https://cando-ms.org/event/care-partner-meetup-identifying-your-ms-symptom-stressors/
END:VEVENT
BEGIN:VEVENT
DTSTART;TZID=America/New_York:20250819T180000
DTEND;TZID=America/New_York:20250819T191500
DTSTAMP:20260421T033807
CREATED:20241210T001713Z
LAST-MODIFIED:20250109T033711Z
UID:10001414-1755626400-1755630900@cando-ms.org
SUMMARY:Newly Diagnosed Meetup: Daily Life with MS: Employment\, Family Planning & Relationships
DESCRIPTION:Living with MS doesn’t mean putting your dreams on hold—it means finding new ways to pursue them. This session dives into the realities of managing employment\, family planning\, and relationships with MS. Gain tools to express what matters to you\, balance your priorities\, and build a future that aligns with your values. \n  \nREGISTER NOW\n  \nThis program is possible thanks to the generous support of the following sponsor: \n \nLearn more about Novartis
URL:https://cando-ms.org/event/newly-diagnosed-meetup-2/
CATEGORIES:Daily Life,Family Planning,Family, Friends, and Relationships
ATTACH;FMTTYPE=image/png:https://cando-ms.org/wp-content/uploads/2024/12/NewlyDiagnosedMeetups2025.png
LOCATION:https://cando-ms.org/event/newly-diagnosed-meetup-2/
END:VEVENT
BEGIN:VEVENT
DTSTART;TZID=America/New_York:20250807T170000
DTEND;TZID=America/New_York:20250807T181500
DTSTAMP:20260421T033807
CREATED:20241205T182840Z
LAST-MODIFIED:20241205T182840Z
UID:10001395-1754586000-1754590500@cando-ms.org
SUMMARY:Care Partner Meetup - Defining Help: Finding Common Ground
DESCRIPTION:Help can be a lifeline—or a source of frustration. In this session\, we’ll explore how you and your loved one might define help differently and discover strategies for communicating and aligning expectations to foster understanding and respect. \n  \nREGISTER NOW
URL:https://cando-ms.org/event/care-partner-meetup-defining-help-finding-common-ground/
CATEGORIES:Family, Friends, and Relationships
ATTACH;FMTTYPE=image/png:https://cando-ms.org/wp-content/uploads/2024/12/CarePartnerMeetups2025.png
LOCATION:https://cando-ms.org/event/care-partner-meetup-defining-help-finding-common-ground/
END:VEVENT
BEGIN:VEVENT
DTSTART;TZID=America/New_York:20250501T170000
DTEND;TZID=America/New_York:20250501T181500
DTSTAMP:20260421T033807
CREATED:20241205T182440Z
LAST-MODIFIED:20241205T182440Z
UID:10001394-1746118800-1746123300@cando-ms.org
SUMMARY:Care Partner Meetup: Caring Through the Years
DESCRIPTION:As time moves forward\, both care partners and their loved ones face new realities as you face the future together. This session will guide you through the intersection of aging and caregiving\, offering resources and insights to help you maintain your well-being while continuing to provide loving care. \nREGISTER NOW
URL:https://cando-ms.org/event/care-partner-meetup-caring-through-the-years/
CATEGORIES:Daily Life,Family, Friends, and Relationships,Planning for the Future
ATTACH;FMTTYPE=image/png:https://cando-ms.org/wp-content/uploads/2024/12/CarePartnerMeetups2025.png
LOCATION:https://cando-ms.org/event/care-partner-meetup-caring-through-the-years/
END:VEVENT
BEGIN:VEVENT
DTSTART;TZID=America/New_York:20250206T170000
DTEND;TZID=America/New_York:20250206T181500
DTSTAMP:20260421T033807
CREATED:20241205T182020Z
LAST-MODIFIED:20241205T233953Z
UID:10001393-1738861200-1738865700@cando-ms.org
SUMMARY:Care Partner Meetup - Balancing Care and Connection: MS as the Third Wheel
DESCRIPTION:Living with MS impacts more than just one person—it shapes the lives of loved ones too. Join a supportive space where care partners can share experiences\, gain insights\, and learn practical strategies to keep relationships resilient and fulfilling while navigating MS together. \nREGISTER NOW
URL:https://cando-ms.org/event/care-partner-meetup-ms-as-the-third-wheel/
CATEGORIES:Daily Life,Family, Friends, and Relationships
ATTACH;FMTTYPE=image/png:https://cando-ms.org/wp-content/uploads/2024/12/CarePartnerMeetups2025.png
LOCATION:https://cando-ms.org/event/care-partner-meetup-ms-as-the-third-wheel/
END:VEVENT
BEGIN:VEVENT
DTSTART;TZID=America/New_York:20241010T170000
DTEND;TZID=America/New_York:20241010T181500
DTSTAMP:20260421T033807
CREATED:20231107T192133Z
LAST-MODIFIED:20240826T141154Z
UID:10000452-1728579600-1728584100@cando-ms.org
SUMMARY:Care Partner Meetup: Sex and Intimacy
DESCRIPTION:Navigating the complex world of sex and intimacy can be challenging for any relationship\, and multiple sclerosis adds another layer of intricacy. As a care partner\, you may wonder how to maintain or reignite the intimate connection with your loved one while addressing physical and emotional barriers that come with MS. In this session\, we will explore effective communication strategies and offer practical advice to help you approach these sensitive topics with compassion and openness. Join us to learn how to foster a deeper bond and maintain a fulfilling intimate relationship. \nREGISTER NOW
URL:https://cando-ms.org/event/care-partner-meetup/
CATEGORIES:Family, Friends, and Relationships
ATTACH;FMTTYPE=image/jpeg:https://cando-ms.org/wp-content/uploads/2023/11/Intimacy_OlderCoupleDancingInKitchen-scaled.jpg
LOCATION:https://cando-ms.org/event/care-partner-meetup/
END:VEVENT
BEGIN:VEVENT
DTSTART;TZID=America/New_York:20240801T170000
DTEND;TZID=America/New_York:20240801T181500
DTSTAMP:20260421T033807
CREATED:20231107T171651Z
LAST-MODIFIED:20231206T231422Z
UID:10000451-1722531600-1722536100@cando-ms.org
SUMMARY:Care Partner Meetup: Optimizing Your Partners Safety and Independence
DESCRIPTION:As a care partner\, do you find yourself trying to strike the perfect balance of enhancing your loved one’s well-being while also respecting their autonomy? It can often be an intricate art. In this session discover the value of adaptive equipment and how to extend assistance without compromising the cherished independence of your partner. \nREGISTER NOW
URL:https://cando-ms.org/event/care-partner-meetup-optimizing-your-partners-safety-and-independence/
CATEGORIES:Family, Friends, and Relationships,Total Wellness,Understanding MS
ATTACH;FMTTYPE=image/jpeg:https://cando-ms.org/wp-content/uploads/2023/11/Family_MotherAndDaughterBaking_WebSize.jpg
LOCATION:https://cando-ms.org/event/care-partner-meetup-optimizing-your-partners-safety-and-independence/
END:VEVENT
BEGIN:VEVENT
DTSTART;TZID=America/New_York:20240606T170000
DTEND;TZID=America/New_York:20240606T181500
DTSTAMP:20260421T033807
CREATED:20231107T171204Z
LAST-MODIFIED:20231206T231208Z
UID:10000450-1717693200-1717697700@cando-ms.org
SUMMARY:Care Partner Meetup: Planning For The Future
DESCRIPTION:Multiple sclerosis will both test and strengthen your ability to adapt to unpredictability. Whether you are anticipating support for the onset of any symptom or outlining an emergency relapse care plan\, you are constantly managing the weight of the unknown. Join us to share your concerns about the uncertain path ahead and gain the knowledge to face the future with confidence. \nREGISTER NOW
URL:https://cando-ms.org/event/care-partner-meetup-planning-for-the-future/
CATEGORIES:Family, Friends, and Relationships,Planning for the Future
ATTACH;FMTTYPE=image/jpeg:https://cando-ms.org/wp-content/uploads/2023/11/SupportPartner_LesbianCoupleKnittingAndDrinkingCoffee_WebSize.jpg
LOCATION:https://cando-ms.org/event/care-partner-meetup-planning-for-the-future/
END:VEVENT
BEGIN:VEVENT
DTSTART;TZID=America/Los_Angeles:20240427T090000
DTEND;TZID=America/Los_Angeles:20240427T133000
DTSTAMP:20260421T033807
CREATED:20231215T214044Z
LAST-MODIFIED:20240424T195104Z
UID:10000622-1714208400-1714224600@cando-ms.org
SUMMARY:MS Hispanic Community Program | Programa EM Para la Comunidad Hispana
DESCRIPTION:At this program\, you’ll join the brightest MS professionals and the most positive MS warriors in thoughtful conversation about the things that matter most to you. \nWhat To Expect \n\nGet personalized guidance to help you manage your symptoms\, stay active\, enhance your daily functions\, and care for your mental health.\nLearn from the pros at leading MS centers.\nConnect with other members of your MS community.\nCare partners\, family members\, and loved ones are welcome!\nLunch will be provided\n\nREGISTER NOW\nEn este programa\, te unirás a los profesionales más destacados en esclerosis múltiple y a los guerreros más positivos en una conversación reflexiva sobre las cosas que más te importan.  \nQué esperar  \n\n Obtén orientación personalizada para ayudarte a manejar tus síntomas\, mantenerte activo\, mejorar tus funciones diarias y cuidar tu salud mental.\n Aprende de los expertos en los principales centros de esclerosis múltiple.\n Conéctate con otros miembros de tu comunidad local de esclerosis múltiple.\n ¡Los cuidadores\, familiares y seres queridos son bienvenidos!\n Se proporcionará el almuerzo\n\nREGISTRATE AHORA
URL:https://cando-ms.org/event/ms-community-program-hispanic-community/
LOCATION:USC Hotel\, 3540 S Figueroa St.\, Los Angeles\, CA\, 90007\, United States
CATEGORIES:Daily Life,Family, Friends, and Relationships,Total Wellness
ATTACH;FMTTYPE=image/png:https://cando-ms.org/wp-content/uploads/2023/12/Spanish-version-cp-event-header-3.png
END:VEVENT
BEGIN:VEVENT
DTSTART;TZID=America/New_York:20240404T170000
DTEND;TZID=America/New_York:20240404T181500
DTSTAMP:20260421T033807
CREATED:20231107T170807Z
LAST-MODIFIED:20231122T172158Z
UID:10000449-1712250000-1712254500@cando-ms.org
SUMMARY:Care Partner Meetup: Communication and Conflict Resolution
DESCRIPTION:Care partners and loved ones of people living with MS\, you are encouraged to join these meetups to find a safe space to address your needs\, share your experiences\, and find the support you need.  And\, by having time exclusively to yourself – without your loved one with MS – we hope you can feel heard\, understood\, and better equipped to take on each day. \nREGISTER NOW
URL:https://cando-ms.org/event/care-partner-meetup-communication-and-conflict-resolution/
CATEGORIES:Family, Friends, and Relationships
ATTACH;FMTTYPE=image/jpeg:https://cando-ms.org/wp-content/uploads/2023/11/SupportPartner_OlderCoupleWifeListeningToHusbandOnCouch-scaled.jpg
LOCATION:https://cando-ms.org/event/care-partner-meetup-communication-and-conflict-resolution/
END:VEVENT
BEGIN:VEVENT
DTSTART;TZID=America/New_York:20240215T150000
DTEND;TZID=America/New_York:20240215T170000
DTSTAMP:20260421T033807
CREATED:20231107T194551Z
LAST-MODIFIED:20231122T173223Z
UID:10000454-1708009200-1708016400@cando-ms.org
SUMMARY:Building Confidence Inside and Outside of the Bedroom
DESCRIPTION:Let’s flip the narrative. MS might throw some challenges your way\, but that doesn’t get to define you or your sex life. You deserve to understand what feels good and what works for you and be able to communicate those desires confidently. It’s completely normal if your body has changed – it’s been through a lot. But you know what? It’s still extraordinary! Join us for a supportive space of shared experiences and expert guidance to empower you to foster deeper connections. \nREGISTER NOW
URL:https://cando-ms.org/event/communication-intimacy-and-sex/
CATEGORIES:Family, Friends, and Relationships
ATTACH;FMTTYPE=image/jpeg:https://cando-ms.org/wp-content/uploads/2023/10/Intimacy_LesbianCoupleHugging_WebSize.jpg
LOCATION:https://cando-ms.org/event/communication-intimacy-and-sex/
END:VEVENT
BEGIN:VEVENT
DTSTART;TZID=America/New_York:20240207T190000
DTEND;TZID=America/New_York:20240207T200000
DTSTAMP:20260421T033807
CREATED:20231113T221740Z
LAST-MODIFIED:20231114T211051Z
UID:10000590-1707332400-1707336000@cando-ms.org
SUMMARY:Understanding and Overcoming Sexual Challenges in MS
DESCRIPTION:You are not alone in wondering about the impact of MS on libido\, arousal\, dryness\, and spasms during sex. With up to 80% of people living with MS experiencing sexual dysfunction in their lifetime\, this often overlooked topic is a crucial part of overall wellness with MS. Join this safe space to explore how MS affects you sexually and how engaging in intimate relationships can be beneficial for both you and your disease. \n  \nREGISTER NOW
URL:https://cando-ms.org/event/understanding-and-overcoming-sexual-challenges-in-ms/
CATEGORIES:Family, Friends, and Relationships,Understanding MS
ATTACH;FMTTYPE=image/jpeg:https://cando-ms.org/wp-content/uploads/2023/11/Intimacy_OlderCoupleDancingInKitchen-scaled.jpg
LOCATION:https://cando-ms.org/event/understanding-and-overcoming-sexual-challenges-in-ms/
END:VEVENT
BEGIN:VEVENT
DTSTART;TZID=America/New_York:20231114T170000
DTEND;TZID=America/New_York:20231114T181500
DTSTAMP:20260421T033807
CREATED:20230117T225451Z
LAST-MODIFIED:20230214T182940Z
UID:10000172-1699981200-1699985700@cando-ms.org
SUMMARY:Your Questions Answered: Communication
DESCRIPTION:We communicate all the time – sometimes intentionally with our words and sometimes unintentionally with our body language or behavior. If you’ve run into trouble conveying your thoughts or feelings to others\, or been confused by communications from others\, come join us with your questions. You’ll have a chance to hear from mental health professionals and each other about strategies for effective talking and listening. \n  \nREGISTER NOW
URL:https://cando-ms.org/event/your-questions-answered-communication/
CATEGORIES:Family, Friends, and Relationships
ATTACH;FMTTYPE=image/jpeg:https://cando-ms.org/wp-content/uploads/2023/01/SupportPartner_MotherAndAdultDaughterEmbracing_WebSize.jpg
LOCATION:https://cando-ms.org/event/your-questions-answered-communication/
END:VEVENT
BEGIN:VEVENT
DTSTART;TZID=America/New_York:20231109T150000
DTEND;TZID=America/New_York:20231109T170000
DTSTAMP:20260421T033807
CREATED:20230117T225147Z
LAST-MODIFIED:20230215T162101Z
UID:10000171-1699542000-1699549200@cando-ms.org
SUMMARY:Listening as Well as Talking; Strategies for Better Communication
DESCRIPTION:If you find that conversations go nowhere fast\, spiral out of control\, leave you feeling angry\, resentful\, unheard\, or just seem blah\, come join us for some lively conversations about communication. Learn from healthcare professionals and each other about ways to get your points across\, listen without getting defensive\, share feelings in constructive ways\, and resolve conflicts through meaningful dialog. \n  \nREGISTER NOW
URL:https://cando-ms.org/event/listening-as-well-as-talking-strategies-for-better-communication/
CATEGORIES:Family, Friends, and Relationships
ATTACH;FMTTYPE=image/jpeg:https://cando-ms.org/wp-content/uploads/2022/12/Relationships_Laughing-Family-at-Dinner-Table_African-American-Plus-Size-Models-scaled.jpeg
LOCATION:https://cando-ms.org/event/listening-as-well-as-talking-strategies-for-better-communication/
END:VEVENT
BEGIN:VEVENT
DTSTART;TZID=America/Chicago:20231104T090000
DTEND;TZID=America/Chicago:20231104T123000
DTSTAMP:20260421T033807
CREATED:20230110T172957Z
LAST-MODIFIED:20231013T195525Z
UID:10000152-1699088400-1699101000@cando-ms.org
SUMMARY:Community Program:  Dallas\, TX
DESCRIPTION:At this program\, you’ll join the brightest MS professionals and the most positive MS warriors in thoughtful conversation about the things that matter most to you. \nWhat To Expect\n• Learn from the pros at leading MS centers.\n• Gain practical strategies to reduce the impact of MS in your everyday life.\n• Connect with other members of your MS community.\n• Learn in-person or virtually online!\n• Community Programs include a free meal for in-person attendees. \nScottish Rite for Children\nT. Boone Pickens Training & Conference Center: Reverchon A & B\n2222 Welborn Street\nDallas\, TX 75219 \nLearn in-person or online! \nREGISTER NOW
URL:https://cando-ms.org/event/community-program-dallas/
CATEGORIES:Cognition,Daily Life,Family, Friends, and Relationships,Fatigue,Total Wellness
ATTACH;FMTTYPE=image/png:https://cando-ms.org/wp-content/uploads/2023/01/Copy-of-Community-Programs-Email-Hero-Header-1.png
END:VEVENT
BEGIN:VEVENT
DTSTART;TZID=America/New_York:20231101T190000
DTEND;TZID=America/New_York:20231101T200000
DTSTAMP:20260421T033807
CREATED:20230117T223725Z
LAST-MODIFIED:20241018T152857Z
UID:10000170-1698865200-1698868800@cando-ms.org
SUMMARY:How to Talk about Tough Stuff with Important People 2023
DESCRIPTION:Have you struggled to talk with others about the unpredictability of MS\, why you “look so good” when your invisible symptoms are wearing you down\, when you would like assistance and when not\, or when your sex life seems to have tanked\, or when you feel hurt or angry? Or have you just gotten quieter? You’re not alone! Join us for tips for talking about the uncomfortable or the unmentionable. \n  \nREGISTER NOW
URL:https://cando-ms.org/event/how-to-talk-about-tough-stuff-with-important-people/
CATEGORIES:Family, Friends, and Relationships
ATTACH;FMTTYPE=image/jpeg:https://cando-ms.org/wp-content/uploads/2023/01/SupportPartner_TwoWomenTalkingOnCouch_WebSize.jpg
LOCATION:https://cando-ms.org/event/how-to-talk-about-tough-stuff-with-important-people/
END:VEVENT
BEGIN:VEVENT
DTSTART;TZID=America/Vancouver:20230930T090000
DTEND;TZID=America/Vancouver:20230930T123000
DTSTAMP:20260421T033807
CREATED:20230215T225331Z
LAST-MODIFIED:20230829T200925Z
UID:10000373-1696064400-1696077000@cando-ms.org
SUMMARY:Community Program: Seattle\, WA
DESCRIPTION:You deserve the highest level of care and expertise. That’s why we offer Community Programs.  By attending\, you’ll join the brightest MS professionals and the most positive MS warriors in thoughtful conversation about the things that matter most to you. \nThis is your opportunity to learn ways to manage the MS symptoms that knock you off balance from pros from the country’s top MS Centers. All at no cost to you! \nWhen: September 30\, 9:00 AM – 12:30 PM PT\nLunch is included!  \nWhere:Tukwila Community Center\n12424 42nd Ave S\nTukwila\, WA 98168 \nLearn in-person or online! \nFor those who join us in-person\, 5 attendees will have the chance to be selected for a free 1-hour one-on-one coaching session with a Can Do MS coach. \nREGISTER NOW
URL:https://cando-ms.org/event/community-program-tukwila-wa/
LOCATION:Tukwila Community Center\, 12424 42nd Ave S\, Tukwila\, WA\, 98168\, United States
CATEGORIES:Cognition,Daily Life,Family, Friends, and Relationships,Fatigue,Total Wellness
ATTACH;FMTTYPE=image/jpeg:https://cando-ms.org/wp-content/uploads/2023/02/Seattle-Skyline_WebSize.jpg
END:VEVENT
BEGIN:VEVENT
DTSTART;TZID=America/New_York:20230907T180000
DTEND;TZID=America/New_York:20230908T170000
DTSTAMP:20260421T033807
CREATED:20230118T175227Z
LAST-MODIFIED:20230807T170039Z
UID:10000339-1694109600-1694192400@cando-ms.org
SUMMARY:TAKE CHARGE: General
DESCRIPTION:Find support from people who really get it\, solutions to manage your MS\, and guidance for navigating the healthcare system. Join this one-of-a-kind program to learn how you can take charge of your MS\, your healthcare\, and your life! \nThursday\, September 7 | 6:00 pm – 8:15 pm ET\nFriday\, September 8 | 11:00 am – 5:00 pm ET \n  \nAPPLY NOW\n  \nSeats are limited.
URL:https://cando-ms.org/event/take-charge-general/
CATEGORIES:Cognition,Daily Life,Diet & Nutrition,Family, Friends, and Relationships,Fatigue,Total Wellness
ATTACH;FMTTYPE=image/jpeg:https://cando-ms.org/wp-content/uploads/2023/02/Relationships_Friends_OlderGroupOfFriendsLaughingTogether_WebSize.jpg
LOCATION:https://cando-ms.org/event/take-charge-general/
END:VEVENT
END:VCALENDAR